BEGIN:VCALENDAR
VERSION:2.0
PRODID:-//Paldenshangpa La Boulaye - ECPv6.15.20//NONSGML v1.0//EN
CALSCALE:GREGORIAN
METHOD:PUBLISH
X-WR-CALNAME:Paldenshangpa La Boulaye
X-ORIGINAL-URL:https://paldenshangpalaboulaye.org
X-WR-CALDESC:Évènements pour Paldenshangpa La Boulaye
REFRESH-INTERVAL;VALUE=DURATION:PT1H
X-Robots-Tag:noindex
X-PUBLISHED-TTL:PT1H
BEGIN:VTIMEZONE
TZID:Europe/Paris
BEGIN:DAYLIGHT
TZOFFSETFROM:+0100
TZOFFSETTO:+0200
TZNAME:CEST
DTSTART:20250330T010000
END:DAYLIGHT
BEGIN:STANDARD
TZOFFSETFROM:+0200
TZOFFSETTO:+0100
TZNAME:CET
DTSTART:20251026T010000
END:STANDARD
BEGIN:DAYLIGHT
TZOFFSETFROM:+0100
TZOFFSETTO:+0200
TZNAME:CEST
DTSTART:20260329T010000
END:DAYLIGHT
BEGIN:STANDARD
TZOFFSETFROM:+0200
TZOFFSETTO:+0100
TZNAME:CET
DTSTART:20261025T010000
END:STANDARD
BEGIN:DAYLIGHT
TZOFFSETFROM:+0100
TZOFFSETTO:+0200
TZNAME:CEST
DTSTART:20270328T010000
END:DAYLIGHT
BEGIN:STANDARD
TZOFFSETFROM:+0200
TZOFFSETTO:+0100
TZNAME:CET
DTSTART:20271031T010000
END:STANDARD
END:VTIMEZONE
BEGIN:VEVENT
DTSTART;TZID=Europe/Paris:20260418T103000
DTEND;TZID=Europe/Paris:20260419T160000
DTSTAMP:20260419T151639
CREATED:20251220T111939Z
LAST-MODIFIED:20260324T172451Z
UID:30001001-1776508200-1776614400@paldenshangpalaboulaye.org
SUMMARY:Vie\, mort et impermanence
DESCRIPTION:\n					\n						Informations\n						\n					\n				\n			\n				\n				\n				\n				\n				Tous les phénomènes\, y compris notre propre personne\, sont impermanents\, c’est-à-dire qu’ils ne durent pas\, tels quels\, indéfiniment\, car ils sont composés. La fin de l’épisode d’existence appelé ‘vie’ est ce qu’on appelle ‘mort’. Rien de plus certain. Cependant\, la mort n’est pas l’anéantissement de toute possibilité d’existence mais un processus de dissolution de ce qui constitue la vie : dissolution des éléments\, des agrégats\, des énergies subtiles… Puis\, la fin temporaire de l’expérience de vie de la conscience est suivie d’un nouvel ‘assemblage psycho-physique’\, une renaissance. \nLe but de ce stage est de se familiariser\, par des méthodes méditatives appropriées\, avec ce processus de dissolution / reconstitution\, afin de pouvoir le reconnaitre et l’utiliser\, le moment venu\, comme véritable occasion de libération. \nOuvert à tous \n\n			\n				\n				\n				\n				\n				\n					\n					\n						Horaires des sessions\n						\n					\n				\n			\n				\n				\n				\n				\n				\nPremier jour : 10h30 à 12h00  –  15h00 à 17h00 \nDernier jour : 10h30 à 12h00  –  14h00 à 16h00\n\n \n			\n				\n				\n				\n				\n				\n					\n					\n						Frais de participation\n						\n					\n				\n			\n				\n				\n				\n				\n				15€/jour
URL:https://paldenshangpalaboulaye.org/evenement-stage/vie-mort-et-impermanence/
LOCATION:Centre bouddhiste Paldenshangpa La boulaye\, Paldenshangpa\, La boulaye\, Bourgogne\, 71320\, France
CATEGORIES:Stages et cours,Vie, mort et impermanence
ATTACH;FMTTYPE=image/webp:https://paldenshangpalaboulaye.org/wp-content/uploads/2022/10/Amithaba_1.webp
END:VEVENT
BEGIN:VEVENT
DTSTART;TZID=Europe/Paris:20260418T103000
DTEND;TZID=Europe/Paris:20260419T160000
DTSTAMP:20260419T151639
CREATED:20251229T164911Z
LAST-MODIFIED:20260324T172346Z
UID:30001044-1776508200-1776614400@paldenshangpalaboulaye.org
SUMMARY:Pratiques préliminaires Shangpa | La pratique de Dordjé Sempa
DESCRIPTION:\n					\n						Informations\n						\n					\n				\n			\n				\n				\n				\n				\n				L’engagement profond dans les pratiques du Vajrayana nécessite une préparation adéquate du corps-esprit au travers de la pratique des quatre préliminaires ‘communs’ puis de celle des quatre préliminaires ‘spéciaux’. \nLes quatre préliminaires ‘communs’ consistent en la réflexion / méditation sur la précieuse existence humaine\, l’impermanence\, la loi du karma et le cycle des existences (samsara). \nLes quatre préliminaires ‘spéciaux’ s’appuient sur : le refuge-bodhicitta/les prosternations\, la pratique de Dordjé Sempa / Vajrasattva\, l’offrande du mandala\, et le Gourou yoga. \nCes deux préparations conduisent à l’abandon de l’attachement égoïste\, la purification des négativités\, le double cumul d’actes méritoires – sagesse\, et la dévotion à l’égard du Maitre et nous transforment en réceptacles appropriés à recevoir les initiations et les enseignements du Vajrayana. \n\n			\n				\n				\n				\n				\n				\n					\n					\n						Horaires des sessions\n						\n					\n				\n			\n				\n				\n				\n				\n				\nPremier jour : 10h30 à 12h00  –  15h00 à 17h00 \nDernier jour : 10h30 à 12h00  –  14h00 à 16h00\n\n \n			\n				\n				\n				\n				\n				\n					\n					\n						Frais de participation\n						\n					\n				\n			\n				\n				\n				\n				\n				15€/jour
URL:https://paldenshangpalaboulaye.org/evenement-stage/pratiques-preliminaires-shangpa-la-pratique-de-dordje-sempa/
LOCATION:Bourgogne
CATEGORIES:Préliminaires Shangpa,Stages et cours
ATTACH;FMTTYPE=image/jpeg:https://paldenshangpalaboulaye.org/wp-content/uploads/2019/12/ecole-SHANGPA.jpg
END:VEVENT
END:VCALENDAR